BEGIN:VCALENDAR
VERSION:2.0
PRODID:-//3205 - ECPv6.15.11//NONSGML v1.0//EN
CALSCALE:GREGORIAN
METHOD:PUBLISH
X-WR-CALNAME:3205
X-ORIGINAL-URL:https://3205rok.com
X-WR-CALDESC:Events for 3205
REFRESH-INTERVAL;VALUE=DURATION:PT1H
X-Robots-Tag:noindex
X-PUBLISHED-TTL:PT1H
BEGIN:VTIMEZONE
TZID:UTC
BEGIN:STANDARD
TZOFFSETFROM:+0000
TZOFFSETTO:+0000
TZNAME:UTC
DTSTART:20240101T000000
END:STANDARD
END:VTIMEZONE
BEGIN:VEVENT
DTSTART;TZID=UTC:20250908T080000
DTEND;TZID=UTC:20250908T170000
DTSTAMP:20260422T134231
CREATED:20250908T193902Z
LAST-MODIFIED:20250908T193902Z
UID:3751-1757318400-1757350800@3205rok.com
SUMMARY:test
DESCRIPTION:
URL:https://3205rok.com/event/test/
END:VEVENT
END:VCALENDAR